BEGIN:VCALENDAR
VERSION:2.0
PRODID:-//Aniada a Noar - ECPv6.15.11//NONSGML v1.0//EN
CALSCALE:GREGORIAN
METHOD:PUBLISH
X-WR-CALNAME:Aniada a Noar
X-ORIGINAL-URL:https://aniada.at
X-WR-CALDESC:Veranstaltungen für Aniada a Noar
REFRESH-INTERVAL;VALUE=DURATION:PT1H
X-Robots-Tag:noindex
X-PUBLISHED-TTL:PT1H
BEGIN:VTIMEZONE
TZID:UTC
BEGIN:STANDARD
TZOFFSETFROM:+0000
TZOFFSETTO:+0000
TZNAME:UTC
DTSTART:20190101T000000
END:STANDARD
END:VTIMEZONE
BEGIN:VEVENT
DTSTART;TZID=UTC:20200508T193000
DTEND;TZID=UTC:20200508T203000
DTSTAMP:20260423T135333
CREATED:20200303T125426Z
LAST-MODIFIED:20200518T062131Z
UID:10000134-1588966200-1588969800@aniada.at
SUMMARY:Aniada a Noar im Kunsthaus Weiz / Abgesagt
DESCRIPTION:Kunsthaus Weiz\nFreitag\, 8. Mai  19:30 Uhr\nRathausgasse 1\, 8160 Weiz\nT +43 3172 2319 620\nM kultur@weiz.at
URL:https://aniada.at/event/aniada-a-noar-im-kunsthaus-weiz/
LOCATION:Weiz Kunsthaus\, Rathausgasse 1\, Weiz\, 8160\, Österreich
ORGANIZER;CN="Kunsthaus Weiz":MAILTO:kultur@weiz.at
END:VEVENT
BEGIN:VEVENT
DTSTART;TZID=UTC:20200508T193000
DTEND;TZID=UTC:20200508T203000
DTSTAMP:20260423T135333
CREATED:20200303T125426Z
LAST-MODIFIED:20200303T125426Z
UID:10000544-1588966200-1588969800@aniada.at
SUMMARY:Aniada a Noar im Kunsthaus Weiz / Abgesagt
DESCRIPTION:Kunsthaus Weiz\nFreitag\, 8. Mai  19:30 Uhr\nRathausgasse 1\, 8160 Weiz\nT +43 3172 2319 620\nM kultur@weiz.at
URL:https://aniada.at/event/aniada-a-noar-im-kunsthaus-weiz-2/
LOCATION:Weiz Kunsthaus\, Rathausgasse 1\, Weiz\, 8160\, Österreich
ORGANIZER;CN="Kunsthaus Weiz":MAILTO:kultur@weiz.at
END:VEVENT
END:VCALENDAR