BEGIN:VCALENDAR
VERSION:2.0
PRODID:-//Aniada a Noar - ECPv6.15.11//NONSGML v1.0//EN
CALSCALE:GREGORIAN
METHOD:PUBLISH
X-ORIGINAL-URL:https://aniada.at
X-WR-CALDESC:Veranstaltungen für Aniada a Noar
REFRESH-INTERVAL;VALUE=DURATION:PT1H
X-Robots-Tag:noindex
X-PUBLISHED-TTL:PT1H
BEGIN:VTIMEZONE
TZID:UTC
BEGIN:STANDARD
TZOFFSETFROM:+0000
TZOFFSETTO:+0000
TZNAME:UTC
DTSTART:20190101T000000
END:STANDARD
END:VTIMEZONE
BEGIN:VEVENT
DTSTART;TZID=UTC:20200131T200000
DTEND;TZID=UTC:20200131T200000
DTSTAMP:20260423T193213
CREATED:20200108T100145Z
LAST-MODIFIED:20200108T113341Z
UID:10000214-1580500800-1580500800@aniada.at
SUMMARY:Aniada a Noar im Kultur Café Vilgertshofen | Deutschland
DESCRIPTION:Raiffeisenstr. 4\,\nD 86946 Vilgertshofen\n+49 (0)8194 9315986\n\nhereinspaziert@kultur-stadl.de\n\nwww.kultur-stadl.de
URL:https://aniada.at/event/aniada-a-noar-im-kultur-cafe-vilgertshofen-deutschland/
LOCATION:Vilgertshofen Kultur Café\, Raiffeisenstr.4\, Vilgertshofen\, 86946\, Deutschland
END:VEVENT
BEGIN:VEVENT
DTSTART;TZID=UTC:20200131T200000
DTEND;TZID=UTC:20200131T200000
DTSTAMP:20260423T193213
CREATED:20200108T100145Z
LAST-MODIFIED:20200108T100145Z
UID:10000533-1580500800-1580500800@aniada.at
SUMMARY:Aniada a Noar im Kultur Café Vilgertshofen | Deutschland
DESCRIPTION:Raiffeisenstr. 4\,\nD 86946 Vilgertshofen\n+49 (0)8194 9315986\n\nhereinspaziert@kultur-stadl.de\n\nwww.kultur-stadl.de
URL:https://aniada.at/event/aniada-a-noar-im-kultur-cafe-vilgertshofen-deutschland-2/
LOCATION:Vilgertshofen Kultur Café\, Raiffeisenstr.4\, Vilgertshofen\, 86946\, Deutschland
END:VEVENT
END:VCALENDAR