BEGIN:VCALENDAR
VERSION:2.0
PRODID:-//Aniada a Noar - ECPv6.15.11//NONSGML v1.0//EN
CALSCALE:GREGORIAN
METHOD:PUBLISH
X-ORIGINAL-URL:https://aniada.at
X-WR-CALDESC:Veranstaltungen für Aniada a Noar
REFRESH-INTERVAL;VALUE=DURATION:PT1H
X-Robots-Tag:noindex
X-PUBLISHED-TTL:PT1H
BEGIN:VTIMEZONE
TZID:UTC
BEGIN:STANDARD
TZOFFSETFROM:+0000
TZOFFSETTO:+0000
TZNAME:UTC
DTSTART:20180101T000000
END:STANDARD
END:VTIMEZONE
BEGIN:VEVENT
DTSTART;TZID=UTC:20191218T200000
DTEND;TZID=UTC:20191218T220000
DTSTAMP:20260423T204954
CREATED:20190404T101947Z
LAST-MODIFIED:20190404T101947Z
UID:10000501-1576699200-1576706400@aniada.at
SUMMARY:Weihnachtskonzert im großen Minoritensaal mit Maria Gstättner & Stefan Heckel
DESCRIPTION:Stefan Heckel => Ein Vorgeschmack \nMaria Gstättner=> Ein Vorgeschmack \nKarten: Zentralkartenbüro Graz\, Herrengasse 7\, 8010 Graz T. 0316 830255 \noder 0664 213 1386 denise.terner@holzmann.st  \n 
URL:https://aniada.at/event/weihnachtskonzert-im-grossen-minoritensaal-mit-maria-gstaettner-stefan-heckel-2/
LOCATION:Graz Großer Minoritensaal\, Mariahilferplatz3\, Graz\, Steiermark\, 8020\, Österreich
END:VEVENT
BEGIN:VEVENT
DTSTART;TZID=UTC:20191218T200000
DTEND;TZID=UTC:20191218T220000
DTSTAMP:20260423T204954
CREATED:20190404T101947Z
LAST-MODIFIED:20191120T065526Z
UID:10000176-1576699200-1576706400@aniada.at
SUMMARY:Weihnachtskonzert im großen Minoritensaal mit Maria Gstättner & Stefan Heckel
DESCRIPTION:Stefan Heckel => Ein Vorgeschmack \nMaria Gstättner=> Ein Vorgeschmack \nKarten: Zentralkartenbüro Graz\, Herrengasse 7\, 8010 Graz T. 0316 830255 \noder 0664 213 1386 denise.terner@holzmann.st  \n 
URL:https://aniada.at/event/weihnachtskonzert-im-grossen-minoritensaal-mit-maria-gstaettner-stefan-heckel/
LOCATION:Graz Großer Minoritensaal\, Mariahilferplatz3\, Graz\, Steiermark\, 8020\, Österreich
END:VEVENT
END:VCALENDAR