BEGIN:VCALENDAR
VERSION:2.0
PRODID:-//Aniada a Noar - ECPv6.15.11//NONSGML v1.0//EN
CALSCALE:GREGORIAN
METHOD:PUBLISH
X-ORIGINAL-URL:https://aniada.at
X-WR-CALDESC:Veranstaltungen für Aniada a Noar
REFRESH-INTERVAL;VALUE=DURATION:PT1H
X-Robots-Tag:noindex
X-PUBLISHED-TTL:PT1H
BEGIN:VTIMEZONE
TZID:UTC
BEGIN:STANDARD
TZOFFSETFROM:+0000
TZOFFSETTO:+0000
TZNAME:UTC
DTSTART:20180101T000000
END:STANDARD
END:VTIMEZONE
BEGIN:VEVENT
DTSTART;TZID=UTC:20191216T193000
DTEND;TZID=UTC:20191216T213000
DTSTAMP:20260423T204956
CREATED:20190722T083610Z
LAST-MODIFIED:20190722T084436Z
UID:10000205-1576524600-1576531800@aniada.at
SUMMARY:Aniada a Noar | Weihnachtskonzert mit Maria Gstättner und Stefan Heckel im Bockkeller Wien
DESCRIPTION:
URL:https://aniada.at/event/aniada-a-noar-weihnachtskonzert-mit-maria-gstaettner-und-stefan-heckel-2/
LOCATION:Wien Liebhartstaler Bockkeller\, Gallitzinstrasse 1\, Wien\, 1160
END:VEVENT
BEGIN:VEVENT
DTSTART;TZID=UTC:20191216T193000
DTEND;TZID=UTC:20191216T213000
DTSTAMP:20260423T204956
CREATED:20190722T083610Z
LAST-MODIFIED:20190722T083610Z
UID:10000523-1576524600-1576531800@aniada.at
SUMMARY:Aniada a Noar | Weihnachtskonzert mit Maria Gstättner und Stefan Heckel im Bockkeller Wien
DESCRIPTION:
URL:https://aniada.at/event/aniada-a-noar-weihnachtskonzert-mit-maria-gstaettner-und-stefan-heckel-2-2/
LOCATION:Wien Liebhartstaler Bockkeller\, Gallitzinstrasse 1\, Wien\, 1160
END:VEVENT
END:VCALENDAR