BEGIN:VCALENDAR
VERSION:2.0
PRODID:-//Aniada a Noar - ECPv6.15.11//NONSGML v1.0//EN
CALSCALE:GREGORIAN
METHOD:PUBLISH
X-ORIGINAL-URL:https://aniada.at
X-WR-CALDESC:Veranstaltungen für Aniada a Noar
REFRESH-INTERVAL;VALUE=DURATION:PT1H
X-Robots-Tag:noindex
X-PUBLISHED-TTL:PT1H
BEGIN:VTIMEZONE
TZID:UTC
BEGIN:STANDARD
TZOFFSETFROM:+0000
TZOFFSETTO:+0000
TZNAME:UTC
DTSTART:20180101T000000
END:STANDARD
END:VTIMEZONE
BEGIN:VEVENT
DTSTART;TZID=UTC:20191215T200000
DTEND;TZID=UTC:20191215T220000
DTSTAMP:20260423T205750
CREATED:20190722T083736Z
LAST-MODIFIED:20190722T084149Z
UID:10000204-1576440000-1576447200@aniada.at
SUMMARY:Aniada a Noar | Weihnachtskonzert mit Maria Gstättner und Stefan Heckel in Bad Vigaun
DESCRIPTION:
URL:https://aniada.at/event/aniada-a-noar-weihnachtskonzert-mit-maria-gstaettner-und-stefan-heckel-3/
LOCATION:Bad Vigaun Hotel Langwies\, Langwies 22\, Bad Vigaun\, Salzburg\, 5424\, Österreich
ORGANIZER;CN="Hotel Langwies":MAILTO:hotel@langwies.at
END:VEVENT
BEGIN:VEVENT
DTSTART;TZID=UTC:20191215T200000
DTEND;TZID=UTC:20191215T220000
DTSTAMP:20260423T205750
CREATED:20190722T083736Z
LAST-MODIFIED:20190722T083736Z
UID:10000524-1576440000-1576447200@aniada.at
SUMMARY:Aniada a Noar | Weihnachtskonzert mit Maria Gstättner und Stefan Heckel in Bad Vigaun
DESCRIPTION:
URL:https://aniada.at/event/aniada-a-noar-weihnachtskonzert-mit-maria-gstaettner-und-stefan-heckel-3-2/
LOCATION:Bad Vigaun Hotel Langwies\, Langwies 22\, Bad Vigaun\, Salzburg\, 5424\, Österreich
ORGANIZER;CN="Hotel Langwies":MAILTO:hotel@langwies.at
END:VEVENT
END:VCALENDAR