BEGIN:VCALENDAR
VERSION:2.0
PRODID:-//Aniada a Noar - ECPv6.15.11//NONSGML v1.0//EN
CALSCALE:GREGORIAN
METHOD:PUBLISH
X-ORIGINAL-URL:https://aniada.at
X-WR-CALDESC:Veranstaltungen für Aniada a Noar
REFRESH-INTERVAL;VALUE=DURATION:PT1H
X-Robots-Tag:noindex
X-PUBLISHED-TTL:PT1H
BEGIN:VTIMEZONE
TZID:UTC
BEGIN:STANDARD
TZOFFSETFROM:+0000
TZOFFSETTO:+0000
TZNAME:UTC
DTSTART:20180101T000000
END:STANDARD
END:VTIMEZONE
BEGIN:VEVENT
DTSTART;TZID=UTC:20191129T190000
DTEND;TZID=UTC:20191129T210000
DTSTAMP:20260423T204934
CREATED:20190722T082444Z
LAST-MODIFIED:20190722T083210Z
UID:10000202-1575054000-1575061200@aniada.at
SUMMARY:Aniada a Noar | Adventkonzert mit Emma Montanari\, Giulio Venier und Flavio Bortuzzo
DESCRIPTION:
URL:https://aniada.at/event/aniada-a-noar-adventkonzert-mit-emma-montanari-giulio-venier-und-flavio-bortuzzo/
LOCATION:Malta Festsaal\, Malta 48\, Malta\, 9854
END:VEVENT
BEGIN:VEVENT
DTSTART;TZID=UTC:20191129T190000
DTEND;TZID=UTC:20191129T210000
DTSTAMP:20260423T204934
CREATED:20190722T082444Z
LAST-MODIFIED:20190722T082444Z
UID:10000521-1575054000-1575061200@aniada.at
SUMMARY:Aniada a Noar | Adventkonzert mit Emma Montanari\, Giulio Venier und Flavio Bortuzzo
DESCRIPTION:
URL:https://aniada.at/event/aniada-a-noar-adventkonzert-mit-emma-montanari-giulio-venier-und-flavio-bortuzzo-2/
LOCATION:Malta Festsaal\, Malta 48\, Malta\, 9854
END:VEVENT
END:VCALENDAR