BEGIN:VCALENDAR
VERSION:2.0
PRODID:-//Aniada a Noar - ECPv6.15.11//NONSGML v1.0//EN
CALSCALE:GREGORIAN
METHOD:PUBLISH
X-WR-CALNAME:Aniada a Noar
X-ORIGINAL-URL:https://aniada.at
X-WR-CALDESC:Veranstaltungen für Aniada a Noar
REFRESH-INTERVAL;VALUE=DURATION:PT1H
X-Robots-Tag:noindex
X-PUBLISHED-TTL:PT1H
BEGIN:VTIMEZONE
TZID:UTC
BEGIN:STANDARD
TZOFFSETFROM:+0000
TZOFFSETTO:+0000
TZNAME:UTC
DTSTART:20180101T000000
END:STANDARD
END:VTIMEZONE
BEGIN:VEVENT
DTSTART;TZID=UTC:20191019T200000
DTEND;TZID=UTC:20191019T220000
DTSTAMP:20260424T000204
CREATED:20190424T093616Z
LAST-MODIFIED:20190424T093616Z
UID:10000513-1571515200-1571522400@aniada.at
SUMMARY:Aniada a Noar in Neustadtl / „Jakob\, es ist Herbst“
DESCRIPTION:Samstag\, 19. Oktober\,   20.00 h \n„Jakob\, es ist Herbst“ \nSaal der NMS\, 3323 Neustadtl \n+43 664 1300142     kulturspektrum@neustadtl.at \n 
URL:https://aniada.at/event/aniada-a-noar-in-neustadtl-jakob-es-ist-herbst-2/
LOCATION:Neustadtl NMS\, Neustadtl\, 3323
END:VEVENT
BEGIN:VEVENT
DTSTART;TZID=UTC:20191019T200000
DTEND;TZID=UTC:20191019T220000
DTSTAMP:20260424T000204
CREATED:20190424T093616Z
LAST-MODIFIED:20190424T093616Z
UID:10000194-1571515200-1571522400@aniada.at
SUMMARY:Aniada a Noar in Neustadtl / „Jakob\, es ist Herbst“
DESCRIPTION:Samstag\, 19. Oktober\,   20.00 h \n„Jakob\, es ist Herbst“ \nSaal der NMS\, 3323 Neustadtl \n+43 664 1300142     kulturspektrum@neustadtl.at \n 
URL:https://aniada.at/event/aniada-a-noar-in-neustadtl-jakob-es-ist-herbst/
LOCATION:Neustadtl NMS\, Neustadtl\, 3323
END:VEVENT
END:VCALENDAR