BEGIN:VCALENDAR
VERSION:2.0
PRODID:-//Aniada a Noar - ECPv6.15.11//NONSGML v1.0//EN
CALSCALE:GREGORIAN
METHOD:PUBLISH
X-WR-CALNAME:Aniada a Noar
X-ORIGINAL-URL:https://aniada.at
X-WR-CALDESC:Veranstaltungen für Aniada a Noar
REFRESH-INTERVAL;VALUE=DURATION:PT1H
X-Robots-Tag:noindex
X-PUBLISHED-TTL:PT1H
BEGIN:VTIMEZONE
TZID:UTC
BEGIN:STANDARD
TZOFFSETFROM:+0000
TZOFFSETTO:+0000
TZNAME:UTC
DTSTART:20180101T000000
END:STANDARD
END:VTIMEZONE
BEGIN:VEVENT
DTSTART;TZID=UTC:20190614T193000
DTEND;TZID=UTC:20190614T210000
DTSTAMP:20260424T063017
CREATED:20190424T091903Z
LAST-MODIFIED:20190424T091903Z
UID:10000506-1560540600-1560546000@aniada.at
SUMMARY:Aniada a Noar im Haus der Volkskultur in Oberschützen
DESCRIPTION:Freitag\, 14. Juni 2019 19:30 Uhr \nHaus der Volkskultur\nHauptstr. 25  7432 Oberschützen \n+43 33536160   www.hianzenverein.at
URL:https://aniada.at/event/aniada-a-noar-im-kulturstadl-in-oberschuetzen-2/
LOCATION:Oberschützen Haus der Volkskultur\, Hauptstrasse 25\, Oberschützen\, 7432
END:VEVENT
BEGIN:VEVENT
DTSTART;TZID=UTC:20190614T193000
DTEND;TZID=UTC:20190614T210000
DTSTAMP:20260424T063017
CREATED:20190424T091903Z
LAST-MODIFIED:20190606T072815Z
UID:10000187-1560540600-1560546000@aniada.at
SUMMARY:Aniada a Noar im Haus der Volkskultur in Oberschützen
DESCRIPTION:Freitag\, 14. Juni 2019 19:30 Uhr \nHaus der Volkskultur\nHauptstr. 25  7432 Oberschützen \n+43 33536160   www.hianzenverein.at
URL:https://aniada.at/event/aniada-a-noar-im-kulturstadl-in-oberschuetzen/
LOCATION:Oberschützen Haus der Volkskultur\, Hauptstrasse 25\, Oberschützen\, 7432
END:VEVENT
END:VCALENDAR