BEGIN:VCALENDAR
VERSION:2.0
PRODID:-//Aniada a Noar - ECPv6.15.11//NONSGML v1.0//EN
CALSCALE:GREGORIAN
METHOD:PUBLISH
X-WR-CALNAME:Aniada a Noar
X-ORIGINAL-URL:https://aniada.at
X-WR-CALDESC:Veranstaltungen für Aniada a Noar
REFRESH-INTERVAL;VALUE=DURATION:PT1H
X-Robots-Tag:noindex
X-PUBLISHED-TTL:PT1H
BEGIN:VTIMEZONE
TZID:UTC
BEGIN:STANDARD
TZOFFSETFROM:+0000
TZOFFSETTO:+0000
TZNAME:UTC
DTSTART:20180101T000000
END:STANDARD
END:VTIMEZONE
BEGIN:VEVENT
DTSTART;TZID=UTC:20190529T200000
DTEND;TZID=UTC:20190529T220000
DTSTAMP:20260424T063005
CREATED:20190107T115343Z
LAST-MODIFIED:20190107T115343Z
UID:10000168-1559160000-1559167200@aniada.at
SUMMARY:Aniada a Noar mit "Zwitschern" im Alten Kino in St. Florian
DESCRIPTION:
URL:https://aniada.at/event/aniada-a-noar-mit-zwitschern-im-alten-kino-in-st-florian/
LOCATION:St. Florian Altes Kino\, Wiener Strasse 8\, St. Florian\, 4490
END:VEVENT
BEGIN:VEVENT
DTSTART;TZID=UTC:20190529T200000
DTEND;TZID=UTC:20190529T220000
DTSTAMP:20260424T063005
CREATED:20190107T115343Z
LAST-MODIFIED:20190107T115343Z
UID:10000497-1559160000-1559167200@aniada.at
SUMMARY:Aniada a Noar mit "Zwitschern" im Alten Kino in St. Florian
DESCRIPTION:
URL:https://aniada.at/event/aniada-a-noar-mit-zwitschern-im-alten-kino-in-st-florian-2/
LOCATION:St. Florian Altes Kino\, Wiener Strasse 8\, St. Florian\, 4490
END:VEVENT
END:VCALENDAR