BEGIN:VCALENDAR
VERSION:2.0
PRODID:-//Aniada a Noar - ECPv6.15.11//NONSGML v1.0//EN
CALSCALE:GREGORIAN
METHOD:PUBLISH
X-WR-CALNAME:Aniada a Noar
X-ORIGINAL-URL:https://aniada.at
X-WR-CALDESC:Veranstaltungen für Aniada a Noar
REFRESH-INTERVAL;VALUE=DURATION:PT1H
X-Robots-Tag:noindex
X-PUBLISHED-TTL:PT1H
BEGIN:VTIMEZONE
TZID:UTC
BEGIN:STANDARD
TZOFFSETFROM:+0000
TZOFFSETTO:+0000
TZNAME:UTC
DTSTART:20180101T000000
END:STANDARD
END:VTIMEZONE
BEGIN:VEVENT
DTSTART;TZID=UTC:20190328T193000
DTEND;TZID=UTC:20190328T213000
DTSTAMP:20260424T110907
CREATED:20181230T184442Z
LAST-MODIFIED:20190313T080659Z
UID:10000166-1553801400-1553808600@aniada.at
SUMMARY:Aniada a Noar und Gustl Schmölzer im großen Minoritensaal Graz
DESCRIPTION:Im großen Minoritensaal wo die Lebenslust des Barrock förmlich zu spüren ist ladet der Lions-Club Graz\,  Aniada a Noar sorgen für einen Musikalischen Höhenflug….. \nReservierungen unter: +43/664/3259646
URL:https://aniada.at/event/grosser-minoritensaal/
LOCATION:Graz Großer Minoritensaal\, Mariahilferplatz3\, Graz\, Steiermark\, 8020\, Österreich
END:VEVENT
BEGIN:VEVENT
DTSTART;TZID=UTC:20190328T193000
DTEND;TZID=UTC:20190328T213000
DTSTAMP:20260424T110907
CREATED:20181230T184442Z
LAST-MODIFIED:20181230T184442Z
UID:10000495-1553801400-1553808600@aniada.at
SUMMARY:Aniada a Noar und Gustl Schmölzer im großen Minoritensaal Graz
DESCRIPTION:Im großen Minoritensaal wo die Lebenslust des Barrock förmlich zu spüren ist ladet der Lions-Club Graz\,  Aniada a Noar sorgen für einen Musikalischen Höhenflug….. \nReservierungen unter: +43/664/3259646
URL:https://aniada.at/event/grosser-minoritensaal-2/
LOCATION:Graz Großer Minoritensaal\, Mariahilferplatz3\, Graz\, Steiermark\, 8020\, Österreich
END:VEVENT
END:VCALENDAR