BEGIN:VCALENDAR
VERSION:2.0
PRODID:-//Aniada a Noar - ECPv6.15.11//NONSGML v1.0//EN
CALSCALE:GREGORIAN
METHOD:PUBLISH
X-ORIGINAL-URL:https://aniada.at
X-WR-CALDESC:Veranstaltungen für Aniada a Noar
REFRESH-INTERVAL;VALUE=DURATION:PT1H
X-Robots-Tag:noindex
X-PUBLISHED-TTL:PT1H
BEGIN:VTIMEZONE
TZID:UTC
BEGIN:STANDARD
TZOFFSETFROM:+0000
TZOFFSETTO:+0000
TZNAME:UTC
DTSTART:20180101T000000
END:STANDARD
END:VTIMEZONE
BEGIN:VEVENT
DTSTART;TZID=UTC:20190323T200000
DTEND;TZID=UTC:20190323T200000
DTSTAMP:20260424T111209
CREATED:20181230T181400Z
LAST-MODIFIED:20190107T100509Z
UID:10000163-1553371200-1553371200@aniada.at
SUMMARY:Premiere "Zwitschern" im Theatercafé
DESCRIPTION:Es war am 19. September 1885\, eine Grazer Institution – das heutige Theatercafe‘ öffnete seine Pforten…… am 23.März 2019 erleben Sie die Premiere „Zwitschern“ mit Aniada a Noar!
URL:https://aniada.at/event/premiere-zwitschern/
LOCATION:Graz „Hin & Wider“ im Theatercafe\, Mandellstraße 11\, Graz\, Steiermark\, 8010\, Österreich
END:VEVENT
BEGIN:VEVENT
DTSTART;TZID=UTC:20190323T200000
DTEND;TZID=UTC:20190323T200000
DTSTAMP:20260424T111209
CREATED:20181230T181400Z
LAST-MODIFIED:20181230T181400Z
UID:10000492-1553371200-1553371200@aniada.at
SUMMARY:Premiere "Zwitschern" im Theatercafé
DESCRIPTION:Es war am 19. September 1885\, eine Grazer Institution – das heutige Theatercafe‘ öffnete seine Pforten…… am 23.März 2019 erleben Sie die Premiere „Zwitschern“ mit Aniada a Noar!
URL:https://aniada.at/event/premiere-zwitschern-2/
LOCATION:Graz „Hin & Wider“ im Theatercafe\, Mandellstraße 11\, Graz\, Steiermark\, 8010\, Österreich
END:VEVENT
END:VCALENDAR