BEGIN:VCALENDAR
VERSION:2.0
PRODID:-//Aniada a Noar - ECPv6.15.11//NONSGML v1.0//EN
CALSCALE:GREGORIAN
METHOD:PUBLISH
X-ORIGINAL-URL:https://aniada.at
X-WR-CALDESC:Veranstaltungen für Aniada a Noar
REFRESH-INTERVAL;VALUE=DURATION:PT1H
X-Robots-Tag:noindex
X-PUBLISHED-TTL:PT1H
BEGIN:VTIMEZONE
TZID:UTC
BEGIN:STANDARD
TZOFFSETFROM:+0000
TZOFFSETTO:+0000
TZNAME:UTC
DTSTART:20180101T000000
END:STANDARD
END:VTIMEZONE
BEGIN:VEVENT
DTSTART;TZID=UTC:20190228T201500
DTEND;TZID=UTC:20190228T201500
DTSTAMP:20260424T111140
CREATED:20181230T161811Z
LAST-MODIFIED:20181230T161811Z
UID:10000159-1551384900-1551384900@aniada.at
SUMMARY:Fraunhofer Volksmusiktage
DESCRIPTION:Aniada a Noar – Vom Teigitschgraben bis Teheran. 35 Jahre Musikgeschichte(n). Erleben Sie Aniada a Norar im Theater im Fraunhofer in München.
URL:https://aniada.at/event/fraunhofer-volksmusiktage/
LOCATION:München Theater im Fraunhofer\, Fraunhoferstraße 9\, München\, München\, 80469\, Deutschland
ORGANIZER;CN="Theater Fraunhofer":MAILTO:info@fraunhofertheater.de
END:VEVENT
BEGIN:VEVENT
DTSTART;TZID=UTC:20190228T201500
DTEND;TZID=UTC:20190228T201500
DTSTAMP:20260424T111140
CREATED:20181230T161811Z
LAST-MODIFIED:20181230T161811Z
UID:10000488-1551384900-1551384900@aniada.at
SUMMARY:Fraunhofer Volksmusiktage
DESCRIPTION:Aniada a Noar – Vom Teigitschgraben bis Teheran. 35 Jahre Musikgeschichte(n). Erleben Sie Aniada a Norar im Theater im Fraunhofer in München.
URL:https://aniada.at/event/fraunhofer-volksmusiktage-2/
LOCATION:München Theater im Fraunhofer\, Fraunhoferstraße 9\, München\, München\, 80469\, Deutschland
ORGANIZER;CN="Theater Fraunhofer":MAILTO:info@fraunhofertheater.de
END:VEVENT
END:VCALENDAR