BEGIN:VCALENDAR
VERSION:2.0
PRODID:-//Aniada a Noar - ECPv6.15.11//NONSGML v1.0//EN
CALSCALE:GREGORIAN
METHOD:PUBLISH
X-WR-CALNAME:Aniada a Noar
X-ORIGINAL-URL:https://aniada.at
X-WR-CALDESC:Veranstaltungen für Aniada a Noar
REFRESH-INTERVAL;VALUE=DURATION:PT1H
X-Robots-Tag:noindex
X-PUBLISHED-TTL:PT1H
BEGIN:VTIMEZONE
TZID:UTC
BEGIN:STANDARD
TZOFFSETFROM:+0000
TZOFFSETTO:+0000
TZNAME:UTC
DTSTART:20170101T000000
END:STANDARD
END:VTIMEZONE
BEGIN:VEVENT
DTSTART;TZID=UTC:20180824T053000
DTEND;TZID=UTC:20180824T063000
DTSTAMP:20260424T232154
CREATED:20180416T083719Z
LAST-MODIFIED:20180416T083719Z
UID:10000149-1535088600-1535092200@aniada.at
SUMMARY:Aniada a Noar beim "Sounding Festival" in Jerusalem
DESCRIPTION:Sunrise Konzert
URL:https://aniada.at/event/aniada-a-noar-beim-sounding-festival-in-jerusalem/
LOCATION:Jerusalem Sounding Festival\, Jerusalem\, Israel
END:VEVENT
BEGIN:VEVENT
DTSTART;TZID=UTC:20180824T053000
DTEND;TZID=UTC:20180824T063000
DTSTAMP:20260424T232154
CREATED:20180416T083719Z
LAST-MODIFIED:20180416T083719Z
UID:10000468-1535088600-1535092200@aniada.at
SUMMARY:Aniada a Noar beim "Sounding Festival" in Jerusalem
DESCRIPTION:Sunrise Konzert
URL:https://aniada.at/event/aniada-a-noar-beim-sounding-festival-in-jerusalem-2/
LOCATION:Jerusalem Sounding Festival\, Jerusalem\, Israel
END:VEVENT
END:VCALENDAR