BEGIN:VCALENDAR
VERSION:2.0
PRODID:-//Aniada a Noar - ECPv6.15.11//NONSGML v1.0//EN
CALSCALE:GREGORIAN
METHOD:PUBLISH
X-ORIGINAL-URL:https://aniada.at
X-WR-CALDESC:Veranstaltungen für Aniada a Noar
REFRESH-INTERVAL;VALUE=DURATION:PT1H
X-Robots-Tag:noindex
X-PUBLISHED-TTL:PT1H
BEGIN:VTIMEZONE
TZID:UTC
BEGIN:STANDARD
TZOFFSETFROM:+0000
TZOFFSETTO:+0000
TZNAME:UTC
DTSTART:20170101T000000
END:STANDARD
END:VTIMEZONE
BEGIN:VEVENT
DTSTART;TZID=UTC:20180610T200000
DTEND;TZID=UTC:20180610T210000
DTSTAMP:20260425T023208
CREATED:20180301T113437Z
LAST-MODIFIED:20180301T113437Z
UID:10000141-1528660800-1528664400@aniada.at
SUMMARY:In Compagnia in Weissenbach bei Haus im Schwabnstall
DESCRIPTION:
URL:https://aniada.at/event/in-compagnia-in-weissenbach-bei-haus-im-schwabnstall/
LOCATION:Weissenbach Schwabnstall\, Weissenbach 10\, Weissenbach bei Haus\, Steiermark\, 8967\, Österreich
END:VEVENT
BEGIN:VEVENT
DTSTART;TZID=UTC:20180610T200000
DTEND;TZID=UTC:20180610T210000
DTSTAMP:20260425T023208
CREATED:20180301T113437Z
LAST-MODIFIED:20180301T113437Z
UID:10000460-1528660800-1528664400@aniada.at
SUMMARY:In Compagnia in Weissenbach bei Haus im Schwabnstall
DESCRIPTION:
URL:https://aniada.at/event/in-compagnia-in-weissenbach-bei-haus-im-schwabnstall-2/
LOCATION:Weissenbach Schwabnstall\, Weissenbach 10\, Weissenbach bei Haus\, Steiermark\, 8967\, Österreich
END:VEVENT
END:VCALENDAR