BEGIN:VCALENDAR
VERSION:2.0
PRODID:-//Aniada a Noar - ECPv6.15.11//NONSGML v1.0//EN
CALSCALE:GREGORIAN
METHOD:PUBLISH
X-ORIGINAL-URL:https://aniada.at
X-WR-CALDESC:Veranstaltungen für Aniada a Noar
REFRESH-INTERVAL;VALUE=DURATION:PT1H
X-Robots-Tag:noindex
X-PUBLISHED-TTL:PT1H
BEGIN:VTIMEZONE
TZID:UTC
BEGIN:STANDARD
TZOFFSETFROM:+0000
TZOFFSETTO:+0000
TZNAME:UTC
DTSTART:20160101T000000
END:STANDARD
END:VTIMEZONE
BEGIN:VEVENT
DTSTART;TZID=UTC:20171218T193000
DTEND;TZID=UTC:20171218T213000
DTSTAMP:20260425T133617
CREATED:20170524T100630Z
LAST-MODIFIED:20170524T100630Z
UID:10000440-1513625400-1513632600@aniada.at
SUMMARY:Aniada a Noar und Netnakisum im Bockkeller / Wien
DESCRIPTION:
URL:https://aniada.at/event/aniada-a-noar-und-netnakisum-im-bockkeller-wien-2/
LOCATION:Austria
ORGANIZER;CN="Wiener Volksliedwerk":MAILTO:office@wvlw.at
END:VEVENT
BEGIN:VEVENT
DTSTART;TZID=UTC:20171218T193000
DTEND;TZID=UTC:20171218T213000
DTSTAMP:20260425T133617
CREATED:20170524T100630Z
LAST-MODIFIED:20170524T100630Z
UID:10000110-1513625400-1513632600@aniada.at
SUMMARY:Aniada a Noar und Netnakisum im Bockkeller / Wien
DESCRIPTION:
URL:https://aniada.at/event/aniada-a-noar-und-netnakisum-im-bockkeller-wien/
LOCATION:Austria
ORGANIZER;CN="Wiener Volksliedwerk":MAILTO:office@wvlw.at
END:VEVENT
END:VCALENDAR