BEGIN:VCALENDAR
VERSION:2.0
PRODID:-//Aniada a Noar - ECPv6.15.11//NONSGML v1.0//EN
CALSCALE:GREGORIAN
METHOD:PUBLISH
X-WR-CALNAME:Aniada a Noar
X-ORIGINAL-URL:https://aniada.at
X-WR-CALDESC:Veranstaltungen für Aniada a Noar
REFRESH-INTERVAL;VALUE=DURATION:PT1H
X-Robots-Tag:noindex
X-PUBLISHED-TTL:PT1H
BEGIN:VTIMEZONE
TZID:UTC
BEGIN:STANDARD
TZOFFSETFROM:+0000
TZOFFSETTO:+0000
TZNAME:UTC
DTSTART:20160101T000000
END:STANDARD
END:VTIMEZONE
BEGIN:VEVENT
DTSTART;TZID=UTC:20171216T200000
DTEND;TZID=UTC:20171216T220000
DTSTAMP:20260425T133353
CREATED:20170913T071124Z
LAST-MODIFIED:20170913T071124Z
UID:10000116-1513454400-1513461600@aniada.at
SUMMARY:Aniada a Noar und Netnakisum im Bräugasthof Lobisser | Hallstatt
DESCRIPTION:
URL:https://aniada.at/event/aniada-a-noar-und-netnakisum-im-braeugasthof-lobisser-hallstatt/
LOCATION:Hallstatt Bräugasthof Lobisser\, Seestraße 120\, Hallstatt\, 4830
ORGANIZER;CN="Br%C3%A4ugasthof Lobisser":MAILTO:restaurant@brauhaus-lobisser.com
END:VEVENT
BEGIN:VEVENT
DTSTART;TZID=UTC:20171216T200000
DTEND;TZID=UTC:20171216T220000
DTSTAMP:20260425T133353
CREATED:20170913T071124Z
LAST-MODIFIED:20170913T071124Z
UID:10000445-1513454400-1513461600@aniada.at
SUMMARY:Aniada a Noar und Netnakisum im Bräugasthof Lobisser | Hallstatt
DESCRIPTION:
URL:https://aniada.at/event/aniada-a-noar-und-netnakisum-im-braeugasthof-lobisser-hallstatt-2/
LOCATION:Hallstatt Bräugasthof Lobisser\, Seestraße 120\, Hallstatt\, 4830
ORGANIZER;CN="Br%C3%A4ugasthof Lobisser":MAILTO:restaurant@brauhaus-lobisser.com
END:VEVENT
END:VCALENDAR