BEGIN:VCALENDAR
VERSION:2.0
PRODID:-//Aniada a Noar - ECPv6.15.11//NONSGML v1.0//EN
CALSCALE:GREGORIAN
METHOD:PUBLISH
X-ORIGINAL-URL:https://aniada.at
X-WR-CALDESC:Veranstaltungen für Aniada a Noar
REFRESH-INTERVAL;VALUE=DURATION:PT1H
X-Robots-Tag:noindex
X-PUBLISHED-TTL:PT1H
BEGIN:VTIMEZONE
TZID:UTC
BEGIN:STANDARD
TZOFFSETFROM:+0000
TZOFFSETTO:+0000
TZNAME:UTC
DTSTART:20160101T000000
END:STANDARD
END:VTIMEZONE
BEGIN:VEVENT
DTSTART;TZID=UTC:20171021T190000
DTEND;TZID=UTC:20171021T210000
DTSTAMP:20260425T163828
CREATED:20170613T093212Z
LAST-MODIFIED:20170613T093212Z
UID:10000111-1508612400-1508619600@aniada.at
SUMMARY:Aniada a Noar in Eisenerz im Erzbergbräu
DESCRIPTION:
URL:https://aniada.at/event/aniada-a-noar-in-eisenerz-im-erzbergbraeu-2/
LOCATION:Erzbergbräu\, Trofengbachgasse 2\, Eisenerz\, Steiermark\, 8790\, Österreich
END:VEVENT
BEGIN:VEVENT
DTSTART;TZID=UTC:20171021T190000
DTEND;TZID=UTC:20171021T210000
DTSTAMP:20260425T163828
CREATED:20170613T093212Z
LAST-MODIFIED:20170613T093212Z
UID:10000441-1508612400-1508619600@aniada.at
SUMMARY:Aniada a Noar in Eisenerz im Erzbergbräu
DESCRIPTION:
URL:https://aniada.at/event/aniada-a-noar-in-eisenerz-im-erzbergbraeu-2-2/
LOCATION:Erzbergbräu\, Trofengbachgasse 2\, Eisenerz\, Steiermark\, 8790\, Österreich
END:VEVENT
END:VCALENDAR