BEGIN:VCALENDAR
VERSION:2.0
PRODID:-//Aniada a Noar - ECPv6.15.11//NONSGML v1.0//EN
CALSCALE:GREGORIAN
METHOD:PUBLISH
X-WR-CALNAME:Aniada a Noar
X-ORIGINAL-URL:https://aniada.at
X-WR-CALDESC:Veranstaltungen für Aniada a Noar
REFRESH-INTERVAL;VALUE=DURATION:PT1H
X-Robots-Tag:noindex
X-PUBLISHED-TTL:PT1H
BEGIN:VTIMEZONE
TZID:UTC
BEGIN:STANDARD
TZOFFSETFROM:+0000
TZOFFSETTO:+0000
TZNAME:UTC
DTSTART:20160101T000000
END:STANDARD
END:VTIMEZONE
BEGIN:VEVENT
DTSTART;TZID=UTC:20170328T193000
DTEND;TZID=UTC:20170328T213000
DTSTAMP:20260426T040922
CREATED:20161103T113925Z
LAST-MODIFIED:20170216T130525Z
UID:10000010-1490729400-1490736600@aniada.at
SUMMARY:Aniada a Noar "35 Jahre Musikgeschichte(n)" im Festsaal Judenburg
DESCRIPTION:Hit-frei und Kommerz-resistent gehen sie ihren Weg und haben viel Spaß dabei.\nIhre Welt ist die Musik. Darum ist der Begriff Weltmusik auch nicht zu hoch gegriffen. Zuhause sind die Musiker zwar in der Steiermark\, aber die grenzte in den wunderbaren Liedern von Aniada a Noar zum Glück immer schon an Slowenien genauso wie an Friaul\, an Ungarn\, Frankreich\, Irland\, Schweden…\nDie Liste derer\, mit denen Aniada a Noar im Laufe der Jahre zusammen gespielt haben\, ist so lang wie unterschiedlich\, nie jedoch beliebig. Dass sich nie einem billigen kommerziellen Erfolg zuliebe verbogen haben und immer bei sich geblieben sind\, macht sie so schätzenswert.\nDas dokumentieren Aniada a Noar auf allen ihren Alben\, mittlerweile grandiose 18 an der Zahl. Immer ist da der Witz\, naturgemäß bei „Noarn“\, aber auch Tiefgründigkeit und Melancholie. Wie das Leben so spielt… \n  Besetzung:\n Wolfgang Moitz: Mund- und Nasenflöten\, Dudelsack\, Piffero\, Akkordeon\, Gesang\n Andreas Safer: Geige\, Mandoline\, Maultrommel\, Singende Säge\,Gesang\nBertl Pfundner: Ziehharmonika\, Gitarre\, Mandoline\, Mundharmonika\, Gesang
URL:https://aniada.at/event/aniada-a-noar-35-jahrestour-im-festsaal-judenburg/
LOCATION:Judenburg Festsaal\, Hauptplatz 1\, Judenburg\, 8750
ORGANIZER;CN="Stadtamt Judenburg":MAILTO:m.fauland@judenburg.at
END:VEVENT
BEGIN:VEVENT
DTSTART;TZID=UTC:20170328T193000
DTEND;TZID=UTC:20170328T213000
DTSTAMP:20260426T040922
CREATED:20161103T113925Z
LAST-MODIFIED:20161103T113925Z
UID:10000399-1490729400-1490736600@aniada.at
SUMMARY:Aniada a Noar "35 Jahre Musikgeschichte(n)" im Festsaal Judenburg
DESCRIPTION:Hit-frei und Kommerz-resistent gehen sie ihren Weg und haben viel Spaß dabei.\nIhre Welt ist die Musik. Darum ist der Begriff Weltmusik auch nicht zu hoch gegriffen. Zuhause sind die Musiker zwar in der Steiermark\, aber die grenzte in den wunderbaren Liedern von Aniada a Noar zum Glück immer schon an Slowenien genauso wie an Friaul\, an Ungarn\, Frankreich\, Irland\, Schweden…\nDie Liste derer\, mit denen Aniada a Noar im Laufe der Jahre zusammen gespielt haben\, ist so lang wie unterschiedlich\, nie jedoch beliebig. Dass sich nie einem billigen kommerziellen Erfolg zuliebe verbogen haben und immer bei sich geblieben sind\, macht sie so schätzenswert.\nDas dokumentieren Aniada a Noar auf allen ihren Alben\, mittlerweile grandiose 18 an der Zahl. Immer ist da der Witz\, naturgemäß bei „Noarn“\, aber auch Tiefgründigkeit und Melancholie. Wie das Leben so spielt… \n  Besetzung:\n Wolfgang Moitz: Mund- und Nasenflöten\, Dudelsack\, Piffero\, Akkordeon\, Gesang\n Andreas Safer: Geige\, Mandoline\, Maultrommel\, Singende Säge\,Gesang\nBertl Pfundner: Ziehharmonika\, Gitarre\, Mandoline\, Mundharmonika\, Gesang
URL:https://aniada.at/event/aniada-a-noar-35-jahrestour-im-festsaal-judenburg-2/
LOCATION:Judenburg Festsaal\, Hauptplatz 1\, Judenburg\, 8750
ORGANIZER;CN="Stadtamt Judenburg":MAILTO:m.fauland@judenburg.at
END:VEVENT
END:VCALENDAR