BEGIN:VCALENDAR
VERSION:2.0
PRODID:-//Aniada a Noar - ECPv6.15.11//NONSGML v1.0//EN
CALSCALE:GREGORIAN
METHOD:PUBLISH
X-ORIGINAL-URL:https://aniada.at
X-WR-CALDESC:Veranstaltungen für Aniada a Noar
REFRESH-INTERVAL;VALUE=DURATION:PT1H
X-Robots-Tag:noindex
X-PUBLISHED-TTL:PT1H
BEGIN:VTIMEZONE
TZID:UTC
BEGIN:STANDARD
TZOFFSETFROM:+0000
TZOFFSETTO:+0000
TZNAME:UTC
DTSTART:20160101T000000
END:STANDARD
END:VTIMEZONE
BEGIN:VEVENT
DTSTART;TZID=UTC:20170324T200000
DTEND;TZID=UTC:20170324T220000
DTSTAMP:20260426T053824
CREATED:20161202T072341Z
LAST-MODIFIED:20161202T072341Z
UID:10000411-1490385600-1490392800@aniada.at
SUMMARY:Aniada a Noar im Theater Café Graz\,  Premiere des neuen Programms
DESCRIPTION:Vom Teigitschgraben bis Teheran – 35 Jahre Musikgeschichte(n) \nIhre Welt ist die Musik. Darum ist der Begriff Weltmusik auch nicht zu hoch gegriffen. Zuhause sind die Musiker zwar in der Steiermark\, aber die grenzte in den wunderbaren Liedern von Aniada a Noar zum Glück immer schon an Slowenien genauso wie an Friaul\, an Ungarn\, Frankreich\, Irland\, Schweden…\nDie Liste derer\, mit denen Aniada a Noar im Laufe der Jahre zusammen gespielt haben\, ist so lang wie unterschiedlich\, nie jedoch beliebig. Dass sich nie einem billigen kommerziellen Erfolg zuliebe verbogen haben und immer bei sich geblieben sind\, macht sie so schätzenswert.\nDas dokumentieren Aniada a Noar auf allen ihren Alben\, mittlerweile grandiose 18 an der Zahl. Immer ist da der Witz\, naturgemäß bei „Noarn“\, aber auch Tiefgründigkeit und Melancholie. Wie das Leben so spielt…\nBesetzung:\nWolfgang Moitz: Mund- und Nasenflöten\, Dudelsack\, Piffero\, Akkordeon\, Gesang\nAndreas Safer: Geige\, Mandoline\, Maultrommel\, Singende Säge\,Gesang\nBertl Pfundner: Ziehharmonika\, Gitarre\, Mandoline\, Mundharmonika\, Gesang \n 
URL:https://aniada.at/event/aniada-a-moar-im-theater-cafe-graz-2/
LOCATION:Graz Theater Café\, Mandellstraße 11\, Graz\, 8010
END:VEVENT
BEGIN:VEVENT
DTSTART;TZID=UTC:20170324T200000
DTEND;TZID=UTC:20170324T220000
DTSTAMP:20260426T053824
CREATED:20161202T072341Z
LAST-MODIFIED:20170320T064553Z
UID:10000015-1490385600-1490392800@aniada.at
SUMMARY:Aniada a Noar im Theater Café Graz\,  Premiere des neuen Programms
DESCRIPTION:Vom Teigitschgraben bis Teheran – 35 Jahre Musikgeschichte(n) \nIhre Welt ist die Musik. Darum ist der Begriff Weltmusik auch nicht zu hoch gegriffen. Zuhause sind die Musiker zwar in der Steiermark\, aber die grenzte in den wunderbaren Liedern von Aniada a Noar zum Glück immer schon an Slowenien genauso wie an Friaul\, an Ungarn\, Frankreich\, Irland\, Schweden…\nDie Liste derer\, mit denen Aniada a Noar im Laufe der Jahre zusammen gespielt haben\, ist so lang wie unterschiedlich\, nie jedoch beliebig. Dass sich nie einem billigen kommerziellen Erfolg zuliebe verbogen haben und immer bei sich geblieben sind\, macht sie so schätzenswert.\nDas dokumentieren Aniada a Noar auf allen ihren Alben\, mittlerweile grandiose 18 an der Zahl. Immer ist da der Witz\, naturgemäß bei „Noarn“\, aber auch Tiefgründigkeit und Melancholie. Wie das Leben so spielt…\nBesetzung:\nWolfgang Moitz: Mund- und Nasenflöten\, Dudelsack\, Piffero\, Akkordeon\, Gesang\nAndreas Safer: Geige\, Mandoline\, Maultrommel\, Singende Säge\,Gesang\nBertl Pfundner: Ziehharmonika\, Gitarre\, Mandoline\, Mundharmonika\, Gesang \n 
URL:https://aniada.at/event/aniada-a-moar-im-theater-cafe-graz/
LOCATION:Graz Theater Café\, Mandellstraße 11\, Graz\, 8010
ORGANIZER;CN="Graz Hin & Wider":MAILTO:buero.hinwider.com
END:VEVENT
END:VCALENDAR