BEGIN:VCALENDAR
VERSION:2.0
PRODID:-//Aniada a Noar - ECPv6.15.11//NONSGML v1.0//EN
CALSCALE:GREGORIAN
METHOD:PUBLISH
X-ORIGINAL-URL:https://aniada.at
X-WR-CALDESC:Veranstaltungen für Aniada a Noar
REFRESH-INTERVAL;VALUE=DURATION:PT1H
X-Robots-Tag:noindex
X-PUBLISHED-TTL:PT1H
BEGIN:VTIMEZONE
TZID:UTC
BEGIN:STANDARD
TZOFFSETFROM:+0000
TZOFFSETTO:+0000
TZNAME:UTC
DTSTART:20160101T000000
END:STANDARD
END:VTIMEZONE
BEGIN:VEVENT
DTSTART;TZID=UTC:20170321T200000
DTEND;TZID=UTC:20170321T220000
DTSTAMP:20260426T053733
CREATED:20161129T102445Z
LAST-MODIFIED:20170320T062226Z
UID:10000088-1490126400-1490133600@aniada.at
SUMMARY:Aniada a Noar im Theatercafé Graz\, Premiere des neuen Programms
DESCRIPTION:Ihre Welt ist die Musik. Darum ist der Begriff Weltmusik auch nicht zu hoch gegriffen. Zuhause sind die Musiker zwar in der Steiermark\, aber die grenzte in den wunderbaren Liedern von Aniada a Noar zum Glück immer schon an Slowenien genauso wie an Friaul\, an Ungarn\, Frankreich\, Irland\, Schweden…Die Liste derer\, mit denen Aniada a Noar im Laufe der Jahre zusammen gespielt haben\, ist so lang wie unterschiedlich\, nie jedoch beliebig. Dass sich nie einem billigen kommerziellen Erfolg zuliebe verbogen haben und immer bei sich geblieben sind\, macht sie so schätzenswert.Das dokumentieren Aniada a Noar auf allen ihren Alben\, mittlerweile grandiose 18 an der Zahl. Immer ist da der Witz\, naturgemäß bei „Noarn“\, aber auch Tiefgründigkeit und Melancholie. Wie das Leben so spielt…Besetzung:Wolfgang Moitz: Mund- und Nasenflöten\, Dudelsack\, Piffero\, Akkordeon\, GesangAndreas Safer: Geige\, Mandoline\, Maultrommel\, Singende Säge\,GesangBertl Pfundner: Ziehharmonika\, Gitarre\, Mandoline\, Mundharmonika\, Gesang
URL:https://aniada.at/event/aniada-a-noar-im-theatercafe-graz/
END:VEVENT
BEGIN:VEVENT
DTSTART;TZID=UTC:20170321T200000
DTEND;TZID=UTC:20170321T220000
DTSTAMP:20260426T053733
CREATED:20161129T102445Z
LAST-MODIFIED:20161129T102445Z
UID:10000408-1490126400-1490133600@aniada.at
SUMMARY:Aniada a Noar im Theatercafé Graz\, Premiere des neuen Programms
DESCRIPTION:Ihre Welt ist die Musik. Darum ist der Begriff Weltmusik auch nicht zu hoch gegriffen. Zuhause sind die Musiker zwar in der Steiermark\, aber die grenzte in den wunderbaren Liedern von Aniada a Noar zum Glück immer schon an Slowenien genauso wie an Friaul\, an Ungarn\, Frankreich\, Irland\, Schweden…Die Liste derer\, mit denen Aniada a Noar im Laufe der Jahre zusammen gespielt haben\, ist so lang wie unterschiedlich\, nie jedoch beliebig. Dass sich nie einem billigen kommerziellen Erfolg zuliebe verbogen haben und immer bei sich geblieben sind\, macht sie so schätzenswert.Das dokumentieren Aniada a Noar auf allen ihren Alben\, mittlerweile grandiose 18 an der Zahl. Immer ist da der Witz\, naturgemäß bei „Noarn“\, aber auch Tiefgründigkeit und Melancholie. Wie das Leben so spielt…Besetzung:Wolfgang Moitz: Mund- und Nasenflöten\, Dudelsack\, Piffero\, Akkordeon\, GesangAndreas Safer: Geige\, Mandoline\, Maultrommel\, Singende Säge\,GesangBertl Pfundner: Ziehharmonika\, Gitarre\, Mandoline\, Mundharmonika\, Gesang
URL:https://aniada.at/event/aniada-a-noar-im-theatercafe-graz-8/
END:VEVENT
END:VCALENDAR